BEGIN:VCALENDAR
VERSION:2.0
PRODID:-//CPTS Canton Vert - ECPv6.15.18//NONSGML v1.0//EN
CALSCALE:GREGORIAN
METHOD:PUBLISH
X-ORIGINAL-URL:https://cpts-cantonvert.fr
X-WR-CALDESC:Évènements pour CPTS Canton Vert
REFRESH-INTERVAL;VALUE=DURATION:PT1H
X-Robots-Tag:noindex
X-PUBLISHED-TTL:PT1H
BEGIN:VTIMEZONE
TZID:UTC
BEGIN:STANDARD
TZOFFSETFROM:+0000
TZOFFSETTO:+0000
TZNAME:UTC
DTSTART:20240101T000000
END:STANDARD
END:VTIMEZONE
BEGIN:VEVENT
DTSTART;TZID=UTC:20251001T080000
DTEND;TZID=UTC:20260228T170000
DTSTAMP:20260425T183804
CREATED:20251113T113936Z
LAST-MODIFIED:20251113T115406Z
UID:30227-1759305600-1772298000@cpts-cantonvert.fr
SUMMARY:Vaccination grippe
DESCRIPTION:Tous les événements\n					 \nCampagne de vaccination contre la grippe\nHiver 25/26
URL:https://cpts-cantonvert.fr/evenement/vaccination-grippe/
END:VEVENT
BEGIN:VEVENT
DTSTART;TZID=UTC:20251127T100000
DTEND;TZID=UTC:20251127T150000
DTSTAMP:20260425T183804
CREATED:20251119T115844Z
LAST-MODIFIED:20251120T082528Z
UID:30281-1764237600-1764255600@cpts-cantonvert.fr
SUMMARY:Journée contre la violence faite aux femmes
DESCRIPTION:Un stand sera mis à disposition des femmes et de leurs familles.
URL:https://cpts-cantonvert.fr/evenement/journee-contre-la-violence-faite-aux-femmes/
LOCATION:Hopital d’Allauch\, Chem. des Mille Écus\, ALLAUCH\, 13190\, France
END:VEVENT
BEGIN:VEVENT
DTSTART;TZID=UTC:20251127T190000
DTEND;TZID=UTC:20251127T210000
DTSTAMP:20260425T183804
CREATED:20251120T082906Z
LAST-MODIFIED:20251120T082906Z
UID:30286-1764270000-1764277200@cpts-cantonvert.fr
SUMMARY:Table ronde autour de l'addiction dans le cadre du Mois Sans Tabac
DESCRIPTION:
URL:https://cpts-cantonvert.fr/evenement/table-ronde-autour-de-laddiction-dans-le-cadre-du-mois-sans-tabac/
LOCATION:Résidence Les Blacassins\, Avenue Georges Pompidou\, Plan-de-Cuques\, 13380
END:VEVENT
END:VCALENDAR